BEGIN:VCALENDAR
VERSION:2.0
PRODID:-//Idaho State Board of Education - ECPv5.16.3.1//NONSGML v1.0//EN
CALSCALE:GREGORIAN
METHOD:PUBLISH
X-WR-CALNAME:Idaho State Board of Education
X-ORIGINAL-URL:https://boardofed.idaho.gov
X-WR-CALDESC:Events for Idaho State Board of Education
BEGIN:VTIMEZONE
TZID:America/Boise
BEGIN:DAYLIGHT
TZOFFSETFROM:-0700
TZOFFSETTO:-0600
TZNAME:MDT
DTSTART:20170312T090000
END:DAYLIGHT
BEGIN:STANDARD
TZOFFSETFROM:-0600
TZOFFSETTO:-0700
TZNAME:MST
DTSTART:20171105T080000
END:STANDARD
END:VTIMEZONE
BEGIN:VEVENT
DTSTART;TZID=America/Boise:20170508T130000
DTEND;TZID=America/Boise:20170508T170000
DTSTAMP:20260425T185635
CREATED:20170414T232135Z
LAST-MODIFIED:20170710T211207Z
UID:14242-1494248400-1494262800@boardofed.idaho.gov
SUMMARY:Funding Formula
DESCRIPTION:Agenda\n\nFunding Formula Agenda – May 8\, 2017\n\nRequested Materials\n\nComplete College Idaho Report Cover Letter\nReport on Complete College Idaho Initiatives\nSources and Uses Trend Analysis – FY 2017\nFee and Tuition Waivers – FY 2016\nWCET: Distance Education Price and Cost Report\nIdaho Children in Poverty – 2016\nNew York Times Opinion: The Cost of College and a New Estimator\nThe Movement Backing Tuition-Free Community College\n	Outcome-based Funding Overview in Three States\n\n	Performance Funding\, Montana University System\n\n\nPost-Meeting Materials\n\n	Meeting Summary – Funding Formula\, May 8\, 2017\n\n	Attendee List – Funding Formula\, May 8\, 2017\n\n\nWork Group Members\n\nFunding Formula Workgroup Contact List
URL:https://boardofed.idaho.gov/event/funding-formula-2/
LOCATION:Clearwaters Conference Room\, 650 West State Street\, 3rd Floor\, Boise\, ID\, 83702\, United States
CATEGORIES:Board Sponsored Event,Funding Formula,Higher Education Task Force,Meetings
ORGANIZER;CN="Idaho%20State%20Board%20of%20Education":MAILTO:board@edu.idaho.gov
GEO:43.6182931;-116.1983787
X-APPLE-STRUCTURED-LOCATION;VALUE=URI;X-ADDRESS=Clearwaters Conference Room 650 West State Street 3rd Floor Boise ID 83702 United States;X-APPLE-RADIUS=500;X-TITLE=650 West State Street\, 3rd Floor:geo:-116.1983787,43.6182931
END:VEVENT
END:VCALENDAR