BEGIN:VCALENDAR
VERSION:2.0
PRODID:-//Idaho State Board of Education - ECPv5.16.3.1//NONSGML v1.0//EN
CALSCALE:GREGORIAN
METHOD:PUBLISH
X-WR-CALNAME:Idaho State Board of Education
X-ORIGINAL-URL:https://boardofed.idaho.gov
X-WR-CALDESC:Events for Idaho State Board of Education
BEGIN:VTIMEZONE
TZID:America/Boise
BEGIN:DAYLIGHT
TZOFFSETFROM:-0700
TZOFFSETTO:-0600
TZNAME:MDT
DTSTART:20190310T090000
END:DAYLIGHT
BEGIN:STANDARD
TZOFFSETFROM:-0600
TZOFFSETTO:-0700
TZNAME:MST
DTSTART:20191103T080000
END:STANDARD
END:VTIMEZONE
BEGIN:VEVENT
DTSTART;TZID=America/Boise:20190624T090000
DTEND;TZID=America/Boise:20190624T220000
DTSTAMP:20260425T122829
CREATED:20190607T222444Z
LAST-MODIFIED:20190925T195432Z
UID:24113-1561366800-1561413600@boardofed.idaho.gov
SUMMARY:Rural and Underserved Schools
DESCRIPTION:Rural and Underserved School Districts Agenda\, June 24\, 2019\n\n	Introduction\, Scope of Work\, Deliverables\n\n	Rural Schools Budget\n\n	Funding Formula FY20 Attachment\n\n	Rural Education Support Networks\n\n	Rural Network Legislation\n\n	Hispanic Students in Idaho\n\n	IDLA\n\n	COSSA\n\n	Bruneau Grandview Cantrell\n\n	Nezperce Tiegs
URL:https://boardofed.idaho.gov/event/rural-and-underserved-schools/
LOCATION:Office of the State Board of Education\, 650 West State Street\, 3rd Floor\, Boise\, ID\, 83702\, United States
CATEGORIES:Board Sponsored Event,Meetings,Our Kids, Idaho's Future,Rural and Underserved Schools
ORGANIZER;CN="Idaho%20State%20Board%20of%20Education":MAILTO:board@edu.idaho.gov
GEO:43.6182971;-116.1984171
X-APPLE-STRUCTURED-LOCATION;VALUE=URI;X-ADDRESS=Office of the State Board of Education 650 West State Street 3rd Floor Boise ID 83702 United States;X-APPLE-RADIUS=500;X-TITLE=650 West State Street\, 3rd Floor:geo:-116.1984171,43.6182971
END:VEVENT
END:VCALENDAR